BEGIN:VCALENDAR
VERSION:2.0
PRODID:-//Société de Développement - La Sarraz &amp; Environs - ECPv6.11.2.1//NONSGML v1.0//EN
CALSCALE:GREGORIAN
METHOD:PUBLISH
X-WR-CALNAME:Société de Développement - La Sarraz &amp; Environs
X-ORIGINAL-URL:https://sdlse.ch
X-WR-CALDESC:Évènements pour Société de Développement - La Sarraz &amp; Environs
REFRESH-INTERVAL;VALUE=DURATION:PT1H
X-Robots-Tag:noindex
X-PUBLISHED-TTL:PT1H
BEGIN:VTIMEZONE
TZID:Europe/Zurich
BEGIN:DAYLIGHT
TZOFFSETFROM:+0100
TZOFFSETTO:+0200
TZNAME:CEST
DTSTART:20260329T010000
END:DAYLIGHT
BEGIN:STANDARD
TZOFFSETFROM:+0200
TZOFFSETTO:+0100
TZNAME:CET
DTSTART:20261025T010000
END:STANDARD
END:VTIMEZONE
BEGIN:VEVENT
DTSTART;TZID=Europe/Zurich:20260423T160000
DTEND;TZID=Europe/Zurich:20260423T190000
DTSTAMP:20260423T122633
CREATED:20260421T212440Z
LAST-MODIFIED:20260421T212440Z
UID:31242-1776960000-1776970800@sdlse.ch
SUMMARY:Les jeudis du sens au château d'Eclépens
DESCRIPTION:
URL:https://sdlse.ch/event/les-jeudis-du-sens-au-chateau-declepens/
LOCATION:Eclépens
CATEGORIES:Activité
ATTACH;FMTTYPE=image/jpeg:https://sdlse.ch/wp-content/uploads/2026/04/673393467_1645796343736468_4874019788571207807_n.jpg
ORGANIZER;CN="chateau ecl%C3%A9pens":MAILTO:events@chateau-eclepens.ch
END:VEVENT
END:VCALENDAR